
BEGIN:VCALENDAR
VERSION:2.0
PRODID:-//eventon.com NONSGML v1.0//EN
BEGIN:VEVENT
UID:69e8951bbb3bb
DTSTAMP:20260422T093003
DTSTART:20241010T170000Z
DTEND:20241010T190000Z
LOCATION:Butner-Stem Middle School 501 E D St\,  Butner\,  NC 27509
SUMMARY:Butner-Stem Middle School - Afternoon Shift 10/10
DESCRIPTION: School Name: Butner-Stem Middle School Student Grades: 9th - 12th Date: 10/10/2024 Shift Time: 1:00pm - 3:00 pm EST Once you RSVP for this volunteer slot on the form below\,  your Betabox volunteer coordinator will send you an email with additional details. Please be sure to RSVP with your work[..]
END:VEVENT
END:VCALENDAR