
BEGIN:VCALENDAR
VERSION:2.0
PRODID:-//eventon.com NONSGML v1.0//EN
BEGIN:VEVENT
UID:69e73d6c81079
DTSTAMP:20260421T090340
DTSTART:20241106T143000Z
DTEND:20241106T170000Z
LOCATION:South Central High School 570 Forlines Rd\,  Winterville\,  NC 28590
SUMMARY:South Central High School Morning Shift
DESCRIPTION: School Name: South Central High School Student Grades: 9th - 12th Date: 11/8/24 Shift Time: 10:30am - 1pm Once you RSVP for this volunteer slot on the form below\,  your Betabox volunteer coordinator will send you an email with additional details. Please be sure to RSVP with your work email[..]
END:VEVENT
END:VCALENDAR