
BEGIN:VCALENDAR
VERSION:2.0
PRODID:-//eventon.com NONSGML v1.0//EN
BEGIN:VEVENT
UID:69e73d9684cf9
DTSTAMP:20260421T090422
DTSTART:20250429T153000Z
DTEND:20250429T193000Z
LOCATION:Warren County High School 149 Campus Dr\,  Warrenton\,  NC 27589
SUMMARY:Warren County High School Afternoon Shift
DESCRIPTION: School Name: Warren County High School Student Grades: 9th Date: 4/29/25 Shift Time: 11:30am - 3:30pm Once you RSVP for this volunteer slot on the form below\,  your Betabox volunteer coordinator will send you an email with additional details. Please be sure to RSVP with your work email address.
END:VEVENT
END:VCALENDAR