
BEGIN:VCALENDAR
VERSION:2.0
PRODID:-//eventon.com NONSGML v1.0//EN
BEGIN:VEVENT
UID:69e739f90bcef
DTSTAMP:20260421T084857
DTSTART:20250908T143000Z
DTEND:20250908T153000Z
LOCATION:E.B. Frink Middle School 102 Martin Luther King Jr Dr\,  La Grange\,  NC 28551
SUMMARY:E.B. Frink Middle School Morning Shift
DESCRIPTION: School Name: Frink Middle School Student Grades: 6th-8th Date: 9/8/25 Shift Time: 10:30am - 11:30am Once you RSVP for this volunteer slot on the form below\,  your Betabox volunteer coordinator will send you an email with additional details. Please be sure to RSVP with your work email address.
END:VEVENT
END:VCALENDAR