
BEGIN:VCALENDAR
VERSION:2.0
PRODID:-//eventon.com NONSGML v1.0//EN
BEGIN:VEVENT
UID:69e73af55a3bd
DTSTAMP:20260421T085309
DTSTART:20250909T163000Z
DTEND:20250909T194000Z
LOCATION:E.B. Frink Middle School 102 Martin Luther King Jr Dr\,  La Grange\,  NC 28551
SUMMARY:E.B. Frink Middle School Afternoon Shift Day 2
DESCRIPTION: School Name: Frink Middle School Student Grades: 6th-8th Date: 9/9/25 Shift Time: 12:30pm - 3:40pm Once you RSVP for this volunteer slot on the form below\,  your Betabox volunteer coordinator will send you an email with additional details. Please be sure to RSVP with your work email address.
END:VEVENT
END:VCALENDAR